BEGIN:VCALENDAR
VERSION:2.0
PRODID:-//eventon.com NONSGML v1.0//EN
CALSCALE:GREGORIAN
METHOD:PUBLISH
BEGIN:VEVENT
UID:69eb46b1defae
DTSTAMP:20260424T103217Z
DTSTART:20250620T140000Z
DTEND:20250622T203000Z
LOCATION:
SUMMARY: Online cultivation seminar ’Sitting on the Lotus in the state of emptiness’
DESCRIPTION:Important update: Sitting on the Lotus will take place online o
 nly in June! The date is the weekend of June 20–22. Thank you for your un
 derstanding. Online cultivation retreat June 20 – 22\,  2025 with Grandma
 ster Wei Ling Yi ’Sitting on the Lotus in the state of emptiness’ Regis
 tration is[..]\nhttps://yixue.de/en/events/20250620_onlineseminar/
URL:https://yixue.de/en/events/20250620_onlineseminar/
END:VEVENT
END:VCALENDAR