BEGIN:VCALENDAR
VERSION:2.0
PRODID:-//eventon.com NONSGML v1.0//EN
CALSCALE:GREGORIAN
METHOD:PUBLISH
BEGIN:VEVENT
UID:69e8a55072c91
DTSTAMP:20260422T103912Z
DTSTART:20250717
DTEND:20250718
LOCATION:
SUMMARY:Song Lian Journey West Germany & Luxembourg
DESCRIPTION:Song Lian Journey to West Germany &amp; Luxembourg | July 17 &#
 8211; 20\,  2025 | for all interested parties The power of healing sounds a
 nd mantras. A Lotus Sound Journey with Grand Master Wei Ling Yi with much p
 ractice and lectures about the effects of sound waves on body\,  heart\, [.
 .]\nhttps://yixue.de/en/events/20250717_songlianrjourneywesten/
URL:https://yixue.de/en/events/20250717_songlianrjourneywesten/
END:VEVENT
END:VCALENDAR