BEGIN:VCALENDAR
VERSION:2.0
PRODID:-//eventon.com NONSGML v1.0//EN
CALSCALE:GREGORIAN
METHOD:PUBLISH
BEGIN:VEVENT
UID:69e736eb8411a
DTSTAMP:20260421T083555Z
DTSTART:20251006T170000Z
DTEND:20251006T200000Z
LOCATION:
SUMMARY:Moon Festival 2025 – A Festival of Joy\,  Gratitude\,  and Harmony
DESCRIPTION:Moon Festival 2025 A Festival of Joy\,  Gratitude\,  and Harmon
 y 📅 Monday\,  October 6\,  2025\,  at 6:00 PM CEST 📍 In person at the
  World Lotus Center near Beelitz or Online Preparations for the festival wi
 ll already begin on Monday morning\,  and everyone is warmly invited to hel
 p with the[..]\nhttps://yixue.de/en/events/20251006_moonfestival/
URL:https://yixue.de/en/events/20251006_moonfestival/
END:VEVENT
END:VCALENDAR