BEGIN:VCALENDAR
VERSION:2.0
PRODID:-//eventon.com NONSGML v1.0//EN
CALSCALE:GREGORIAN
METHOD:PUBLISH
BEGIN:VEVENT
UID:69eb4564ef2a8
DTSTAMP:20260424T102644Z
DTSTART:20260425T190000Z
DTEND:20260425T210000Z
LOCATION:
SUMMARY:The boundless clarity of the heavens
DESCRIPTION:Online lecture 25 April 2026  I  08:00 PM CEST The boundless 
 clarity of the heavens In returning to inner spaciousness\,  calm\,  clarit
 y\,  and quiet confidence unfold Sometimes a moment opens in which everythi
 ng expands—clear like a boundless sky\,  cloudless and filled with light.
  This sky is a symbol of a[..]\nhttps://yixue.de/en/events/20260425_the-bou
 ndless-clarity-of-the-heavens/
URL:https://yixue.de/en/events/20260425_the-boundless-clarity-of-the-heavens/
END:VEVENT
END:VCALENDAR