BEGIN:VCALENDAR
VERSION:2.0
PRODID:-//eventon.com NONSGML v1.0//EN
CALSCALE:GREGORIAN
METHOD:PUBLISH
BEGIN:VEVENT
UID:69eb77bf63394
DTSTAMP:20260424T140135Z
DTSTART:20260501
DTEND:20260502
LOCATION:
SUMMARY:Bai Tong Gong â€“ 100 Children Gong
DESCRIPTION:In-Person Seminar at the World Lotus Center in Beelitz | May 1â
 €“4\,  2026 **Bai Tong Gong â€“ 100 Children Gong** *Returning to inner cla
 rity and natural vitality* &#8220;100 Children Gongâ€ť is a holistic moveme
 nt practice from the Great Lotus System\,  open to all interested participa
 ntsâ€”beginners and advanced practitioners of all[..]\nhttps://yixue.de/en/
 events/bai-tong-gong-100-children-gong/
URL:https://yixue.de/en/events/bai-tong-gong-100-children-gong/
END:VEVENT
END:VCALENDAR