BEGIN:VCALENDAR
VERSION:2.0
PRODID:-//eventon.com NONSGML v1.0//EN
CALSCALE:GREGORIAN
METHOD:PUBLISH
BEGIN:VEVENT
UID:69e8bd0878a0c
DTSTAMP:20260422T122024Z
DTSTART:20191202
DTEND:20191203
LOCATION:
SUMMARY:Lotus Festival Week 2019
DESCRIPTION:[vc_row][vc_column][vc_row_inner][vc_column_inner width=&#8221;
 1/1&#8243;][vc_custom_heading]Lotus Festival Week 2019 [/vc_custom_heading]
 [vc_custom_heading]2nd &#8211; 8th December at the YiXue Education Center i
 n Nossenwith Grandmaster Wei Ling Yi[/vc_custom_heading][vc_column_text]Dea
 r YiXue friends and those interested\,  all of you are cordially invited to
  celebrate\,  the most important and biggest spiritual Festival of the year
  in the YIXUE\,  together with Grandmaster Wei[..]\nhttps://yixue.de/en/eve
 nts/lotusfestwoche-2019/
URL:https://yixue.de/en/events/lotusfestwoche-2019/
END:VEVENT
END:VCALENDAR