BEGIN:VCALENDAR
VERSION:2.0
PRODID:-//eventon.com NONSGML v1.0//EN
CALSCALE:GREGORIAN
METHOD:PUBLISH
BEGIN:VEVENT
UID:69e98ce67dfb1
DTSTAMP:20260423T030718Z
DTSTART:20200918
DTEND:20200919
LOCATION:
SUMMARY:Online Premiere – Semi Fasting Seminar
DESCRIPTION:Cleansing for Body\,  Heart &amp; Soul . Regulation &amp; Energ
 y Build-up Intensive Seminar YiQi Bi Gu  A Fasting and Cultivation Seminar
  for all Interested\,  Beginners and Advanced. This 3-day Online Seminar of
 fers also to beginners a good possibility of becoming acquainted with the e
 ffective YiXue fasting method. The online seminar starts[..]\nhttps://yixu
 e.de/en/events/yi-qi-bi-gu-semi-fasting/
URL:https://yixue.de/en/events/yi-qi-bi-gu-semi-fasting/
END:VEVENT
END:VCALENDAR