BEGIN:VCALENDAR
VERSION:2.0
PRODID:-//eventon.com NONSGML v1.0//EN
CALSCALE:GREGORIAN
METHOD:PUBLISH
BEGIN:VEVENT
UID:69e5f9f098db6
DTSTAMP:20260420T100328Z
DTSTART:20201225T203000Z
DTEND:20201227T210000Z
LOCATION:
SUMMARY:Lotus Festival 2020
DESCRIPTION:Lotus Festival 2020 a Feast in Silence and Harmony Click here t
 o register &nbsp; Or copy the following link into your browser https://v220
 2004119103114941.luckysrv.de:8443/yixueweb  CLOSING DATE: 17 DECEMBER YiXu
 e registration portal: Those who have not yet participated in YiXue online 
 seminars must first register once. Then you can register directly for[..]\n
 https://yixue.de/en/events/lotus-festival/
URL:https://yixue.de/en/events/lotus-festival/
END:VEVENT
END:VCALENDAR