BEGIN:VCALENDAR
VERSION:2.0
PRODID:-//eventon.com NONSGML v1.0//EN
CALSCALE:GREGORIAN
METHOD:PUBLISH
BEGIN:VEVENT
UID:69ed8c5bc235f
DTSTAMP:20260426T035403Z
DTSTART:20201121T150000Z
DTEND:20201121T180000Z
LOCATION:https://us02web.zoom.us/webinar/register/WN_rGrDNnTmTiylFtrgcorF6g
SUMMARY:Gong De Training & Spiritual Teaching
DESCRIPTION:[vc_row row_height_percent=&#8221;0&#8243; back_color=&#8221;co
 lor-209554&#8243; overlay_alpha=&#8221;50&#8243; gutter_size=&#8221;3&#8243
 ; column_width_percent=&#8221;100&#8243; shift_y=&#8221;0&#8243; z_index=&#
 8221;0&#8243;][vc_column column_width_percent=&#8221;100&#8243; align_horiz
 ontal=&#8221;align_center&#8221; gutter_size=&#8221;3&#8243; overlay_alpha=
 &#8221;50&#8243; shift_x=&#8221;0&#8243; shift_y=&#8221;0&#8243; shift_y_do
 wn=&#8221;0&#8243; z_index=&#8221;0&#8243; medium_width=&#8221;0&#8243; mob
 ile_width=&#8221;0&#8243; width=&#8221;1/1&#8243;][vc_row_inner][vc_column_
 inner column_width_percent=&#8221;100&#8243; align_horizontal=&#8221;align_
 center&#8221; gutter_size=&#8221;3&#8243; overlay_alpha=&#8221;50&#8243; sh
 ift_x=&#8221;0&#8243; shift_y=&#8221;0&#8243; shift_y_down=&#8221;0&#8243; 
 z_index=&#8221;0&#8243; medium_width=&#8221;0&#8243; mobile_width=&#8221;0&
 #8243; width=&#8221;1/1&#8243;][vc_custom_heading heading_semantic=&#8221;h
 4&#8243; text_size=&#8221;h4&#8243; text_weight=&#8221;600&#8243; text_heig
 ht=&#8221;fontheight-197476&#8243; text_color=&#8221;color-161955&#8243;]LI
 VE ONLINE GONG DE TRAINING &amp; SPIRITUAL TEACHING 21 November 2020\,  4:0
 0 &#8211; 7:00 PM CET[..]\nhttps://yixue.de/en/events/gongdeteaching_2020/v
 ar/event_access
URL:https://yixue.de/en/events/gongdeteaching_2020/var/event_access
END:VEVENT
END:VCALENDAR