BEGIN:VCALENDAR
VERSION:2.0
PRODID:-//eventon.com NONSGML v1.0//EN
CALSCALE:GREGORIAN
METHOD:PUBLISH
BEGIN:VEVENT
UID:69ed7b6656917
DTSTAMP:20260426T024142Z
DTSTART:20210101T190000Z
DTEND:20210101T213000Z
LOCATION:https://us02web.zoom.us/webinar/register/WN_ESOi73dlSAywCvGAOKiEVA
SUMMARY:The Gateway to Heavenly Bliss - 1 January 2021
DESCRIPTION:HAPPY NEW YEAR  2021 Kai Men Hong &#8211; The View through the
  Cosmic Gateway to Heavenly Bliss ONLINE Lecture by Grandmaster Wei Ling 
 Yi 1 January 2021\,  8:00 p.m. donation base\,  for everybody interested De
 ar YiXue friends\,  You are all invited to welcome the new Yang year 2021 t
 ogether with Grandmaster Wei[..]\nhttps://yixue.de/en/events/the-gateway-to
 -heavenly-bliss-1-january-2021/var/event_access
URL:https://yixue.de/en/events/the-gateway-to-heavenly-bliss-1-january-2021/var/event_access
END:VEVENT
END:VCALENDAR