BEGIN:VCALENDAR
VERSION:2.0
PRODID:-//eventon.com NONSGML v1.0//EN
CALSCALE:GREGORIAN
METHOD:PUBLISH
BEGIN:VEVENT
UID:69e75297123f7
DTSTAMP:20260421T103359Z
DTSTART:20210226
DTEND:20210227
LOCATION:
SUMMARY:Special seminar for cancer affected people
DESCRIPTION:Special seminar with Grandmaster Wei Ling Yi for cancer affecte
 d people  Fri 26 &#8211; Sun 28 February 2021 Please note the following fo
 r new participants: As this is a special seminar\,  we ask all new interest
 ed persons to contact Joyce Mok from the organisation team before registeri
 ng: Joyce Mok  EMAIL[..]\nhttps://yixue.de/en/events/kangaiseminar_2021_01
 /
URL:https://yixue.de/en/events/kangaiseminar_2021_01/
END:VEVENT
END:VCALENDAR