BEGIN:VCALENDAR
VERSION:2.0
PRODID:-//eventon.com NONSGML v1.0//EN
CALSCALE:GREGORIAN
METHOD:PUBLISH
BEGIN:VEVENT
UID:69ebaa13558d4
DTSTAMP:20260424T173619Z
DTSTART:20210827T140000Z
DTEND:20210829T203000Z
LOCATION:
SUMMARY:The Secrets of Longevity
DESCRIPTION:LIVE online seminar | 27 &#8211; 29 August 2021 A basic seminar
  for beginners and advanced practitioners with intensive practice\,  spirit
 ual teachings and energy transmissions by Grandmaster Wei Ling Yi. Please c
 lick on the button to register: CLICK HERE TO REGISTER or copy the follow
 ing link into your browser: https://v2202004119103114941.luckysrv.de:8443/
 yixueweb Course fee: 249[..]\nhttps://yixue.de/en/events/onlineseminar_2021
 0827/
URL:https://yixue.de/en/events/onlineseminar_20210827/
END:VEVENT
END:VCALENDAR