BEGIN:VCALENDAR
VERSION:2.0
PRODID:-//eventon.com NONSGML v1.0//EN
CALSCALE:GREGORIAN
METHOD:PUBLISH
BEGIN:VEVENT
UID:69eb30337aa08
DTSTAMP:20260424T085619Z
DTSTART:20220205T190000Z
DTEND:20220205T213000Z
LOCATION:https://us02web.zoom.us/webinar/register/WN__iYN-QvvRgOWFQdvTJW4QQ
SUMMARY:Yin New Year - the Year of the Golden Tiger
DESCRIPTION:LIVE Online Event | 05 February | 8pm &#8211; approx. 10.30pm |
  Donation from the Heart An online event with spiritual teachings and lots 
 of Qi. We welcome the Yin New Year &#8211; the Year of the Golden Tiger &#
 8211; we celebrate\,  dance\,  sing and drink tea together! &#8220;The gold
 en tiger[..]\nhttps://yixue.de/en/events/20210205_onlinevent/var/event_acce
 ss
URL:https://yixue.de/en/events/20210205_onlinevent/var/event_access
END:VEVENT
END:VCALENDAR