BEGIN:VCALENDAR
VERSION:2.0
PRODID:-//eventon.com NONSGML v1.0//EN
CALSCALE:GREGORIAN
METHOD:PUBLISH
BEGIN:VEVENT
UID:69e7131c2affb
DTSTAMP:20260421T060308Z
DTSTART:20220409T180000Z
DTEND:20220409T203000Z
LOCATION:
SUMMARY:Clarity\,  Purity\,  Purification
DESCRIPTION:LIVE Online Lecture | 09 April | 8 &#8211; approx. 10.30 p.m. |
  on a donation basis Clarity\,  Purity\,  Purification For all interested A
 ll interested people are welcome to get to know and enjoy the unique energy
  field and the way of working of Grandmaster Wei Ling Yi; a spiritual[..]\n
 https://yixue.de/en/events/onlinelecture_20220409/
URL:https://yixue.de/en/events/onlinelecture_20220409/
END:VEVENT
END:VCALENDAR