BEGIN:VCALENDAR
VERSION:2.0
PRODID:-//eventon.com NONSGML v1.0//EN
CALSCALE:GREGORIAN
METHOD:PUBLISH
BEGIN:VEVENT
UID:69ecc8a1e9bf9
DTSTAMP:20260425T135857Z
DTSTART:20220624
DTEND:20220625
LOCATION:
SUMMARY:The Secrets of Longevity
DESCRIPTION:LIVE Online-Seminar | 24th &#8211; 26th June with Grandmaster W
 ei Ling Yi The Secrets of Longevity &#8211; Yi Yang &#8211; healthy\,  happ
 y\,  vital CLICK HERE TO REGISTER A basic YiXue seminar for all interested 
 people for beginners and advanced\,  for all ages\,  with intensive practic
 e and energy work\,  with spiritual[..]\nhttps://yixue.de/en/events/202206_
 onlineseminar/
URL:https://yixue.de/en/events/202206_onlineseminar/
END:VEVENT
END:VCALENDAR