BEGIN:VCALENDAR
VERSION:2.0
PRODID:-//eventon.com NONSGML v1.0//EN
CALSCALE:GREGORIAN
METHOD:PUBLISH
BEGIN:VEVENT
UID:69ebedbbc4070
DTSTAMP:20260424T222459Z
DTSTART:20221021
DTEND:20221022
LOCATION:
SUMMARY:Intensiv seminar for cancer patients Yi Qi Kang Ai
DESCRIPTION:LIVE ONLINE SEMINAR &#8211; Intensive seminar for cancer patien
 ts with Grandmaster Wei Ling Yi from Friday 21 to Sunday 23 October 2022 TO
 PIC: THE INTROSPECTION CONTACT: We kindly ask new interested persons to not
 e the following: As this is a special seminar\,  we ask all new interested
  persons to contact the[..]\nhttps://yixue.de/en/events/20221021_onlinesemi
 nar/
URL:https://yixue.de/en/events/20221021_onlineseminar/
END:VEVENT
END:VCALENDAR