BEGIN:VCALENDAR
VERSION:2.0
PRODID:-//eventon.com NONSGML v1.0//EN
CALSCALE:GREGORIAN
METHOD:PUBLISH
BEGIN:VEVENT
UID:69e74b3f79c25
DTSTAMP:20260421T100239Z
DTSTART:20221210T190000Z
DTEND:20221210T213000Z
LOCATION:
SUMMARY:Lotus Hand
DESCRIPTION:Saturday 10 December 2022 Online lecture with energy transmissi
 on &#8220;Lotushand&#8221; by Grandmaster Wei Ling Yi 8 pm\,  donation from
  the heart All interested people are cordially invited to participate in th
 is special spiritual event. CLICK HERE TO REGISTER or copy the following li
 nk into your browser: https://us02web.zoom.us/webinar/register/WN_fZDxz9-t
 RvmMdzdOyacVeA THE LOTUS HAND The[..]\nhttps://yixue.de/en/events/20221210_
 onlineevent/
URL:https://yixue.de/en/events/20221210_onlineevent/
END:VEVENT
END:VCALENDAR