BEGIN:VCALENDAR
VERSION:2.0
PRODID:-//eventon.com NONSGML v1.0//EN
CALSCALE:GREGORIAN
METHOD:PUBLISH
BEGIN:VEVENT
UID:69e5f979ee350
DTSTAMP:20260420T100129Z
DTSTART:20230428
DTEND:20230429
LOCATION:
SUMMARY:Half-Fasting Intensive Seminar Yi Qi Bi Gu
DESCRIPTION:Yi Qi Bi Gu Half-Fasting Seminar -. Healing methods of a health
 y\,  holistic diet. Good food is the best medicine. 28 &#8211; 30 April 202
 3 Learning and deepening the YiXue basic fasting method\,  exercise practic
 e\,  energy transmission with Grand Master Wei Ling Yi. YiXue Basic Seminar
  for all interested people[..]\nhttps://yixue.de/en/events/20230428_onlines
 eminar/
URL:https://yixue.de/en/events/20230428_onlineseminar/
END:VEVENT
END:VCALENDAR