BEGIN:VCALENDAR
VERSION:2.0
PRODID:-//eventon.com NONSGML v1.0//EN
CALSCALE:GREGORIAN
METHOD:PUBLISH
BEGIN:VEVENT
UID:69eca402baa67
DTSTAMP:20260425T112242Z
DTSTART:20230603
DTEND:20230604
LOCATION:
SUMMARY:Intensive Seminar for Cancer Affected People
DESCRIPTION:PRESENCE SEMINAR &#8211; Intensive Seminar for Cancer Affected 
 People with Grandmaster Wei Ling Yi Saturday 3 &#8211; Wednesday 7 June 202
 3 at the YiXue Education Centre in Nossen\,  Germany. &#8220;Know yourself 
 and regenerate your cells through the radiant power of the soul.&#8221; CLI
 CK HERE TO REGISTER CONTENT: Alternative and complementary[..]\nhttps://yix
 ue.de/en/events/20230603_presenceseminar/
URL:https://yixue.de/en/events/20230603_presenceseminar/
END:VEVENT
END:VCALENDAR