BEGIN:VCALENDAR
VERSION:2.0
PRODID:-//eventon.com NONSGML v1.0//EN
CALSCALE:GREGORIAN
METHOD:PUBLISH
BEGIN:VEVENT
UID:69eccdd663076
DTSTAMP:20260425T142110Z
DTSTART:20230721
DTEND:20230722
LOCATION:
SUMMARY:Cai Lian Qi - The Power of the Seven Stars
DESCRIPTION:&nbsp; LIVE Online Seminar | 21 &#8211; 23 July 2023 CAI LIAN Q
 I The Seven-coloured Rainbow Lotus and the Power of the Seven Stars in the 
 Big Dipper Constellation  YiXue Online Cultivation Seminar Level II Prereq
 uisite for participation: In order to participate in the level II cultivati
 on seminars\,  it is[..]\nhttps://yixue.de/en/events/20230721_onlineseminar
 /
URL:https://yixue.de/en/events/20230721_onlineseminar/
END:VEVENT
END:VCALENDAR