BEGIN:VCALENDAR
VERSION:2.0
PRODID:-//eventon.com NONSGML v1.0//EN
CALSCALE:GREGORIAN
METHOD:PUBLISH
BEGIN:VEVENT
UID:69e7496e8579b
DTSTAMP:20260421T095454Z
DTSTART:20230811T113600Z
DTEND:20230813T113600Z
LOCATION:
SUMMARY:The secrets of longevity
DESCRIPTION:&#8220;I wish you that your body is healthy and your thoughts a
 re positive and powerful. I wish you to find your way back to the child bod
 y and child heart and unfold the natural beauty of your soul.&#8221; Wei Li
 ng Yi LIVE Online Seminar | August 11 &#8211; 13\,  2023[..]\nhttps://yixue
 .de/en/events/20230811_onlineseminar/
URL:https://yixue.de/en/events/20230811_onlineseminar/
END:VEVENT
END:VCALENDAR