BEGIN:VCALENDAR
VERSION:2.0
PRODID:-//eventon.com NONSGML v1.0//EN
CALSCALE:GREGORIAN
METHOD:PUBLISH
BEGIN:VEVENT
UID:69e5fb01aed73
DTSTAMP:20260420T100801Z
DTSTART:20231113
DTEND:20231114
LOCATION:
SUMMARY:Teaching without words
DESCRIPTION:TEACHING WITHOUT WORDS&#8221; Cultivation Retreat 13 &#8211; 17
  November 2023 for all interested people HYBRID: PRESENCE Retreat at the Yi
 Xue Education Centre in Nossen and partly ONLINE. NOTICE: This is an except
 ion &#8211; this time participation is OPEN to all interested people: this 
 year all interested people can participate in[..]\nhttps://yixue.de/en/even
 ts/20231113_hybrideretreat/
URL:https://yixue.de/en/events/20231113_hybrideretreat/
END:VEVENT
END:VCALENDAR