BEGIN:VCALENDAR
VERSION:2.0
PRODID:-//eventon.com NONSGML v1.0//EN
CALSCALE:GREGORIAN
METHOD:PUBLISH
BEGIN:VEVENT
UID:69ed07eb402b7
DTSTAMP:20260425T182859Z
DTSTART:20241025
DTEND:20241026
LOCATION:
SUMMARY:Online seminar for people affected by cancer
DESCRIPTION:LIVE ONLINE SEMINAR &#8211; Intensive Seminar for Cancer Affect
 ed People with Grandmaster Wei Ling Yi from Friday 25 to Sunday 27 October 
 2024. New interested people please note the following: As this is a special
  seminar\,  we ask all new interested persons to contact the organiser Kari
 n Hattwig before registering:[..]\nhttps://yixue.de/en/events/20241025_onli
 neseminar/
URL:https://yixue.de/en/events/20241025_onlineseminar/
END:VEVENT
END:VCALENDAR