BEGIN:VCALENDAR
VERSION:2.0
PRODID:-//eventon.com NONSGML v1.0//EN
CALSCALE:GREGORIAN
METHOD:PUBLISH
BEGIN:VEVENT
UID:69e86b02087f8
DTSTAMP:20260422T063026Z
DTSTART:20240210T190000Z
DTEND:20240210T213000Z
LOCATION:
SUMMARY:Online event Yin New Year - 2024 - year of the wood dragon
DESCRIPTION:Online event | 10 February | 8 &#8211; approx. 10.30 pm | on a 
 donation basis Yin New Year &#8211; 2024 &#8211; the year of the wood drago
 n &nbsp; An online event with spiritual teachings and lots of Qi for everyo
 ne interested. We welcome the Yin New Year &#8211; the[..]\nhttps://yixue.d
 e/en/events/202402_onlineevent_yinnewyear/
URL:https://yixue.de/en/events/202402_onlineevent_yinnewyear/
END:VEVENT
END:VCALENDAR