BEGIN:VCALENDAR
VERSION:2.0
PRODID:-//eventon.com NONSGML v1.0//EN
CALSCALE:GREGORIAN
METHOD:PUBLISH
BEGIN:VEVENT
UID:69eb2d84a0a48
DTSTAMP:20260424T084452Z
DTSTART:20240601T140000Z
DTEND:20240605T110000Z
LOCATION:YiXue Bildungszentrum Nossen Seminarweg 5\,  01683 Nossen
SUMMARY:Presence intensive seminar for cancer affected people
DESCRIPTION:Presence seminar at the YiXue Education Centre Nossen\,  German
 y | 01 &#8211; 05 June 2024 Yi Qi Kang Ai &#8211; Intensive seminar for can
 cer affected people with Grandmaster Wei Ling Yi &nbsp; CONTENT: Alternativ
 e and complementary techniques and methods that can be applied to all types
  of cancer. The aim[..]\nhttps://yixue.de/en/events/202406_presenceseminar_
 kangai/
URL:https://yixue.de/en/events/202406_presenceseminar_kangai/
END:VEVENT
END:VCALENDAR