BEGIN:VCALENDAR
VERSION:2.0
PRODID:-//eventon.com NONSGML v1.0//EN
CALSCALE:GREGORIAN
METHOD:PUBLISH
BEGIN:VEVENT
UID:69e62a5a1eb77
DTSTAMP:20260420T133002Z
DTSTART:20240628T140000Z
DTEND:20240630T203000Z
LOCATION:
SUMMARY:Online cultivation seminar Cai Lian Qi - The Power of the Seven Stars
DESCRIPTION:YiXue Online Cultivation Seminar Level II | 28 &#8211; 30 June 
 2023 with Grandmaster Wei Ling Yi Cai Lian Qi &#8211; The Power of the Seve
 n Stars The seven-coloured rainbow lotus and the power of the seven stars i
 n the Big Dipper constellation &nbsp; Prerequisite for participation: In or
 der to[..]\nhttps://yixue.de/en/events/202406_onlineseminar_cailianqi/
URL:https://yixue.de/en/events/202406_onlineseminar_cailianqi/
END:VEVENT
END:VCALENDAR