BEGIN:VCALENDAR
VERSION:2.0
PRODID:-//eventon.com NONSGML v1.0//EN
CALSCALE:GREGORIAN
METHOD:PUBLISH
BEGIN:VEVENT
UID:69e88879c3649
DTSTAMP:20260422T083609Z
DTSTART:20240609T133700Z
DTEND:20240611T133700Z
LOCATION:YiXue Bildungszentrum Nossen Seminarweg 5\,  01683 Nossen
SUMMARY:Presence Dance Seminar 'Yi Kuai Bu - Dance with the Shawl'
DESCRIPTION:Presence seminar at the YiXue Education Centre Nossen | 09. &#8
 211; 11. June 2024 Yi Kuai Bu &#8211; Dance with the Shawl Healing cultivat
 ion dance for heart and soul regulation &#8211; inspiring &amp; heart-openi
 ng A basic seminar for beginners and advanced students &#8211; all are welc
 ome. Experience has shown that[..]\nhttps://yixue.de/en/events/202406_prese
 nceseminar_yikuaibu/
URL:https://yixue.de/en/events/202406_presenceseminar_yikuaibu/
END:VEVENT
END:VCALENDAR