BEGIN:VCALENDAR
VERSION:2.0
PRODID:-//eventon.com NONSGML v1.0//EN
CALSCALE:GREGORIAN
METHOD:PUBLISH
BEGIN:VEVENT
UID:69ea10ca21ec4
DTSTAMP:20260423T123002Z
DTSTART:20240831
DTEND:20240901
LOCATION:
SUMMARY:Song Lian - Lotus Giving Travel Sweden
DESCRIPTION:August 31st &#8211; September 9th\,  2024 Song Lian &#8211; Lot
 us Giving Travel Sweden YiXue &#8211; a pathway to holistic health\,  self
  realization &amp; wisdom Discover The potential of the YiXue with Grandmas
 ter Wei Ling Yi Welcome to YiXue\,  a path to holistic health\,  well being
 \,  growth and deep transformation. Every single[..]\nhttps://yixue.de/en/e
 vents/20240831_songliantravelsweden/
URL:https://yixue.de/en/events/20240831_songliantravelsweden/
END:VEVENT
END:VCALENDAR