BEGIN:VCALENDAR
VERSION:2.0
PRODID:-//eventon.com NONSGML v1.0//EN
CALSCALE:GREGORIAN
METHOD:PUBLISH
BEGIN:VEVENT
UID:69e621d2ddc4a
DTSTAMP:20260420T125338Z
DTSTART:20250117
DTEND:20250118
LOCATION:
SUMMARY:Pu Lian Fa - Deepening into the Great Lotus System
DESCRIPTION:&#8220;When one flower blossoms\,  then a hundred flowers will
  follow this light-filled information. May we all make the lotus lights shi
 ne in our hearts. May we all walk the lotus path that belongs to us.&#8221;
  Wei Ling Yi &nbsp; Pu Lian Fa &#8211; Deepening into the Great Lotus Syste
 m The Lotus[..]\nhttps://yixue.de/en/events/20250117_onlineseminar_pulianfa
 /
URL:https://yixue.de/en/events/20250117_onlineseminar_pulianfa/
END:VEVENT
END:VCALENDAR