BEGIN:VCALENDAR
VERSION:2.0
PRODID:-//eventon.com NONSGML v1.0//EN
CALSCALE:GREGORIAN
METHOD:PUBLISH
BEGIN:VEVENT
UID:69e8a741cd7f0
DTSTAMP:20260422T104729Z
DTSTART:20250227T091500Z
DTEND:20250227T130000Z
LOCATION:
SUMMARY:YiXue at the Chinese carnival in Dietfurt a. d. Altmühl
DESCRIPTION:Presence event on 27 February in Dietfurt a. d. Altmühl / Bava
 ria YiXue at the Chinese Carnival With Chinese drums\,  dragon runners &amp
 ; 1000 hands dancers INVITATION TO THE CARNIVAL PARADE IN DIETFURT WITH THE
  YIXUE! On 27 February\,  we will be active together again &#8211; at the f
 estive carnival[..]\nhttps://yixue.de/en/events/20240227_presenceevent_chin
 esecarnival/
URL:https://yixue.de/en/events/20240227_presenceevent_chinesecarnival/
END:VEVENT
END:VCALENDAR