BEGIN:VCALENDAR
VERSION:2.0
PRODID:-//eventon.com NONSGML v1.0//EN
CALSCALE:GREGORIAN
METHOD:PUBLISH
BEGIN:VEVENT
UID:69e5e627cbd03
DTSTAMP:20260420T083903Z
DTSTART:20250620T140000Z
DTEND:20250622T203000Z
LOCATION:
SUMMARY:Online Kultivierungsseminar ’Sitzen auf dem Lotus’
DESCRIPTION:HIGHLIGHT IM JUNI vom 20. &#8211; 22.06.2025 mit Großmeister W
 ei Ling Yi THEMA: SITZEN AUF DEM LOTUS  &#8211; ein Meditations- und Kulti
 vierungsseminar für alle Interessierten\,  für Einsteiger*innen und Fort
 geschrittene. Das Retreat Sitzen auf dem Lotus ist der intensiven Meditati
 onspraxis gewidmet. Es ermöglicht es\,  sich in der Tiefe mit seiner Seel
 e und dem[..]\nhttps://yixue.de/events/20250620_onlineseminar_sitzenaufdeml
 otus/
URL:https://yixue.de/events/20250620_onlineseminar_sitzenaufdemlotus/
END:VEVENT
END:VCALENDAR