BEGIN:VCALENDAR
VERSION:2.0
PRODID:-//eventon.com NONSGML v1.0//EN
CALSCALE:GREGORIAN
METHOD:PUBLISH
BEGIN:VEVENT
UID:69e5fcdcddd66
DTSTAMP:20260420T101556Z
DTSTART:20250717T073300Z
DTEND:20250720T073300Z
LOCATION:
SUMMARY:Song Lian Reise Westdeutschland & Luxemburg
DESCRIPTION:Song Lian Reise nach Westdeutschland &amp; Luxemburg  | 17. &#
 8211; 20. Juli 2025 |  für alle Interessierten  Die Kraft heilsamer Laut
 e und Mantren Eine Lotus-Klangreise mit Großmeister Wei Ling Yi mit viel P
 raxis und Vorträgen über die Wirkung von Schallwellen auf Körper\,  Herz
  und Seele Frankfurt 17.7. * Marburg 18.7.[..]\nhttps://yixue.de/events/202
 50718_songlianreisewesten/
URL:https://yixue.de/events/20250718_songlianreisewesten/
END:VEVENT
END:VCALENDAR