BEGIN:VCALENDAR
VERSION:2.0
PRODID:-//eventon.com NONSGML v1.0//EN
CALSCALE:GREGORIAN
METHOD:PUBLISH
BEGIN:VEVENT
UID:69e9e19597781
DTSTAMP:20260423T090837Z
DTSTART:20251006T170000Z
DTEND:20251006T190000Z
LOCATION:
SUMMARY:Mondfest 2025 – ein Fest der Freude\,  Dankbarkeit & Harmonie
DESCRIPTION:EINLADUNG ZUM Mondfest 2025 &#8211; Ein Fest der Freude\,  Dank
 barkeit und Harmonie Montag\,  6. Oktober 2025\,  um 18:00 Uhr &#8211; Prä
 senz im Welt Lotus Zentrum bei Beelitz oder Online Die Vorbereitungen für 
 das Fest beginnen bereits am Montagmorgen\,  und jeder ist herzlich eingel
 aden\,  bei den Vorbereitungen mitzuhelfen. Liebe Lotusfreunde\,  Lotus-Gro
 ßmeister WEI[..]\nhttps://yixue.de/events/20251006_mondfest/
URL:https://yixue.de/events/20251006_mondfest/
END:VEVENT
END:VCALENDAR