BEGIN:VCALENDAR
VERSION:2.0
PRODID:-//eventon.com NONSGML v1.0//EN
CALSCALE:GREGORIAN
METHOD:PUBLISH
BEGIN:VEVENT
UID:69e8bfed505f2
DTSTAMP:20260422T123245Z
DTSTART:20260501
DTEND:20260502
LOCATION:YiXue Bildungszentrum Nossen Seminarweg 5\,  01683 Nossen
SUMMARY:100 Kinder Gong - Balance im Jahr des Feuerpferdes
DESCRIPTION:Präsenz-Seminar im Welt Lotus Zentrum in Beelitz  | 1. &#821
 1; 4. Mai 2026  100 Kinder Gong &#8211; Bai Tong Gong 100 Kinder Gong &#82
 11; eine ganzheitliche Bewegungsform aus dem Großen Lotus System für alle
  Interessierten\,  für EinsteigerInnen &amp; Fortgeschrittene aller Alter
 sstufen  Kursbeitrag: 199 Euro &#8211; hinzu kommen Kost &amp; Logis THEMA
 : Im[..]\nhttps://yixue.de/events/20260501_100kindergong/
URL:https://yixue.de/events/20260501_100kindergong/
END:VEVENT
END:VCALENDAR