BEGIN:VCALENDAR
VERSION:2.0
PRODID:-//eventon.com NONSGML v1.0//EN
CALSCALE:GREGORIAN
METHOD:PUBLISH
BEGIN:VEVENT
UID:69e615ed701c9
DTSTAMP:20260420T120253Z
DTSTART:20260425T180000Z
DTEND:20260425T194500Z
LOCATION:
SUMMARY:Weite und Klarheit des Himmels
DESCRIPTION:Online-Vortrag  | 25. April 2026  |  20:00 Uhr  |  auf Spe
 ndenbasis für alle Interessierten  Den Monatsbeitrag im April widmet das 
 Lehrteam dem Thema: &#8222;Weite und Klarheit des Himmels” In der Rückke
 hr zur inneren Weite entfalten sich Ruhe\,  Klarheit &amp; stille Zuversich
 t Manchmal öffnet sich ein Augenblick\,  in dem alles weiter[..]\nhttps://
 yixue.de/events/20260425onlinevortrag/
URL:https://yixue.de/events/20260425onlinevortrag/
END:VEVENT
END:VCALENDAR