BEGIN:VCALENDAR
VERSION:2.0
PRODID:-//eventon.com NONSGML v1.0//EN
CALSCALE:GREGORIAN
METHOD:PUBLISH
BEGIN:VEVENT
UID:69eb4a6b2f42b
DTSTAMP:20260424T104811Z
DTSTART:20260505
DTEND:20260506
LOCATION:Welt Lotus Zentrum Beelitz Birkenallee 10-11
SUMMARY:Ehrenzeremonie zum Abschied von Großmeister Wei Ling Yi
DESCRIPTION:Welt Lotus Zentrum in Beelitz  | 5. &#8211; 6. Mai 2026  Ehr
 enzeremonie zum Abschied von Großmeister Wei Ling Yi In tiefer Dankbarkeit
  und ehrfürchtigem Gedenken nehmen wir Abschied von Großmeister Wei Ling 
 Yi\,  der am 9. Februar 2026 diese irdische Welt verlassen hat. Sein Wirken
 \,  seine Weisheit und seine Güte werden[..]\nhttps://yixue.de/events/2026
 0505_ehrenzeremonie/
URL:https://yixue.de/events/20260505_ehrenzeremonie/
END:VEVENT
END:VCALENDAR