BEGIN:VCALENDAR
VERSION:2.0
PRODID:-//eventon.com NONSGML v1.0//EN
CALSCALE:GREGORIAN
METHOD:PUBLISH
BEGIN:VEVENT
UID:69eb76f55b0d4
DTSTAMP:20260424T135813Z
DTSTART:20260513
DTEND:20260514
LOCATION:Welt Lotus Zentrum Beelitz Birkenallee 10-11
SUMMARY:Tanzwoche: "Lotus BegrÃ¼ÃŸungstanz" & "Tanz mit dem Tuch"
DESCRIPTION:PrÃ¤senz Seminar im Welt Lotus ZentrumÂ  | 13. &#8211; 17. Mai 
 2026 Der Lotus BegrÃ¼ÃŸungstanz &amp; Der Tanz mit dem TuchÂ  Heilsame Kult
 ivierungstÃ¤nze &#8211; inspirierend &amp; herzÃ¶ffnend Ein Basisseminar fÃ
 ¼r EinsteigerInnen und Fortgeschrittene &#8211; alle sind herzlich willkomm
 en. Die Erfahrung hat gezeigt\,  dass auch EinsteigerInnen auf dem Qi-Feld 
 und in[..]\nhttps://yixue.de/events/20260513_praesenzseminar_lotusbegruessu
 ngstanz-2/
URL:https://yixue.de/events/20260513_praesenzseminar_lotusbegruessungstanz-2/
END:VEVENT
END:VCALENDAR