BEGIN:VCALENDAR
VERSION:2.0
PRODID:-//eventon.com NONSGML v1.0//EN
CALSCALE:GREGORIAN
METHOD:PUBLISH
BEGIN:VEVENT
UID:69eb44d80c325
DTSTAMP:20260424T102424Z
DTSTART:20160917
DTEND:20160918
LOCATION:
SUMMARY:Wei Ling Yi in Tutzing
DESCRIPTION:Ein Intensiv-Wochenende mit Großmeister Wei Ling Yi mit Semina
 r in Tutzing YiXue Mantren Event in München und Natur Event in den Alpen 
 (siehe folgende Ankündigungen) Großmeister Wei Ling Yi lehrt\,  wie wir d
 ie Lebensenergie Qi erhöhen und alte Informationen auflösen können\, 
  um ganzheitlich gesund zu werden und ein hohes Bewusstsein sowie Weishei
 t zu entwickeln (Lebenskultivierung). Inhalt[..]\nhttps://yixue.de/events/w
 ei-ling-yi-in-tutzing/
URL:https://yixue.de/events/wei-ling-yi-in-tutzing/
END:VEVENT
END:VCALENDAR