BEGIN:VCALENDAR
VERSION:2.0
PRODID:-//eventon.com NONSGML v1.0//EN
CALSCALE:GREGORIAN
METHOD:PUBLISH
BEGIN:VEVENT
UID:69eb90c0ec09f
DTSTAMP:20260424T154816Z
DTSTART:20181003
DTEND:20181004
LOCATION:YiXue Bildungszentrum Nossen Seminarweg 5\,  01683 Nossen
SUMMARY:100 Kinder Gong - ganzheitliche Bewegungsform
DESCRIPTION:Mit Kinderherz &amp; Kinderkörper   &nbsp; für AnfängerInne
 n &amp; Fortgeschrittene &#8211; für Jung &amp; Alt Leicht zu erlernen &#8
 211; intensiv in der Wirkung: Durch die regelmäßige und präzise Übungs
 praxis der ganzheitlichen Bewegungsform 100 Kinder Lotus Gong bringen wir d
 ie Lebensenergie Qi in uns in den Fluss\,  um Schritt für Schritt durch
 lässig zu werden\,  den Körper[..]\nhttps://yixue.de/events/100-kinder-l
 otus-gong-3/
URL:https://yixue.de/events/100-kinder-lotus-gong-3/
END:VEVENT
END:VCALENDAR