BEGIN:VCALENDAR
VERSION:2.0
PRODID:-//eventon.com NONSGML v1.0//EN
CALSCALE:GREGORIAN
METHOD:PUBLISH
BEGIN:VEVENT
UID:69eb544c36456
DTSTAMP:20260424T113020Z
DTSTART:20190215
DTEND:20190216
LOCATION:
SUMMARY:100 Kinder Gong - ganzheitliche Bewegungsform
DESCRIPTION:[vc_row][vc_column][vc_column_text] Leicht zu erlernen &#8211; 
 intensiv in der Wirkung: Durch die regelmäßige und präzise Übungspraxi
 s der ganzheitlichen Bewegungsform 100 Kinder Gong bringen wir die Lebensen
 ergie Qi in uns in den Fluss\,  um Schritt für Schritt durchlässig zu 
 werden\,  den Körper und das Herz wieder zu heilen und zu verjüngen. Anr
 eise ab 16 Uhr  Kursgebühr: 99[..]\nhttps://yixue.de/events/100-kinder-go
 ng-ganzheitliche-bewegungsform/
URL:https://yixue.de/events/100-kinder-gong-ganzheitliche-bewegungsform/
END:VEVENT
END:VCALENDAR