BEGIN:VCALENDAR
VERSION:2.0
PRODID:-//eventon.com NONSGML v1.0//EN
CALSCALE:GREGORIAN
METHOD:PUBLISH
BEGIN:VEVENT
UID:69e9f84fdd5b7
DTSTAMP:20260423T104535Z
DTSTART:20190605
DTEND:20190606
LOCATION:
SUMMARY:Wei Ling Yi in der Schweiz und in SÃ¼ddeutschland
DESCRIPTION:BASEL &#8211; FREIBURG &#8211; TÃœBINGEN &#8211; METZINGEN &#82
 11; HEIDELBERG VortrÃ¤ge\,  Seminare\,  Ãœbungspraxis\,  EnergieÃ¼bertragun
 gÂ undÂ Naturevent an Pfingstmontag Gewinnen Sie Einblicke in dieÂ YIXUE â€
 “ einer Jahrtausende alten\,  kosmischen Weisheitskultur. In ausgewÃ¤hlten 
 spirituellen Belehrungen und praktischen Ãœbungen fÃ¼hren GroÃŸmeister Wei 
 Ling Yi und sein Lehrteam in den universellen Wissensschatz zur ganzheitlic
 hen Entwicklung von KÃ¶rper\, [..]\nhttps://yixue.de/events/wei-ling-yi-in-
 der-schweiz-und-in-sueddeutschland/
URL:https://yixue.de/events/wei-ling-yi-in-der-schweiz-und-in-sueddeutschland/
END:VEVENT
END:VCALENDAR