BEGIN:VCALENDAR
VERSION:2.0
PRODID:-//eventon.com NONSGML v1.0//EN
CALSCALE:GREGORIAN
METHOD:PUBLISH
BEGIN:VEVENT
UID:69eb318485f99
DTSTAMP:20260424T090156Z
DTSTART:20190614T230000Z
DTEND:20190616T225900Z
LOCATION:
SUMMARY:Wei Ling Yi in Wien
DESCRIPTION:Sowie jede Theorie die Praxis benötigt\,  so braucht die Wiss
 enschaft das Geistige. Der Mensch hingegen möchte schlicht und einfach nu
 r glücklich sein! Doch unser Glück steuern wir selbst mit unseren Gedank
 en und mit unserem BEWUSSTSEIN! Wei Ling Yi wird am 15. und 16. JUNI 201
 9 in Wien an der Fakultät für interdisziplinäre Forschung (IFF) einen V
 ortrag halten[..]\nhttps://yixue.de/events/wei-ling-yi-in-wien/
URL:https://yixue.de/events/wei-ling-yi-in-wien/
END:VEVENT
END:VCALENDAR