BEGIN:VCALENDAR
VERSION:2.0
PRODID:-//eventon.com NONSGML v1.0//EN
CALSCALE:GREGORIAN
METHOD:PUBLISH
BEGIN:VEVENT
UID:69ebfd24c8152
DTSTAMP:20260424T233044Z
DTSTART:20190728T045300Z
DTEND:20190801T045300Z
LOCATION:
SUMMARY:Kinder- und Familienseminar
DESCRIPTION:Lernen fürs Leben &#8211; YiXue Zhi Neng mit Weisheits- &amp
 ; Gesundheitslehrer Wei Ling Yi Für Kinder ab 6 Jahren\,  ihre Eltern/ Ver
 wandte; Teilnahme auch möglich für Erwachsene ohne Kinder Ziel: Durch in
 tensive Übungseinheiten während des Seminars aktivieren sowohl Kinder als
  auch Erwachsene ihre Lebensenergie und bauen sie auf. Konzentrationsproble
 me\,  Schlafstörungen\,  Hyperaktivität\,  Infektanfälligkeit und[..]\nh
 ttps://yixue.de/events/kinder-und-familienseminar/
URL:https://yixue.de/events/kinder-und-familienseminar/
END:VEVENT
END:VCALENDAR