BEGIN:VCALENDAR
VERSION:2.0
PRODID:-//eventon.com NONSGML v1.0//EN
CALSCALE:GREGORIAN
METHOD:PUBLISH
BEGIN:VEVENT
UID:69eb30f786739
DTSTAMP:20260424T085935Z
DTSTART:20191202T000000Z
DTEND:20191208T235900Z
LOCATION:
SUMMARY:Lotusfestwoche 2019
DESCRIPTION:&nbsp; â€žHeiter wie die Sonne leuchten\,  in Harmonie wie der 
 volle Mond\,  von Herz zu Herz zusammen mit allem verschmolzenâ€œ Wei Ling 
 Yi GroÃŸmeister Wei Ling Yi lÃ¤dt alle LotusfreundeÂ und Interessierte der 
 YiXue zurÂ LotusfestwocheÂ 2019 ins YiXue-Bildungszentrum nach Nossen ein\,
   um gemeinsamÂ das hÃ¶chste spirituelle Fest des Jahres zu feiern.Â DieseÂ
  einwÃ¶chige KultivierungswocheÂ ist ein[..]\nhttps://yixue.de/events/lotus
 festwoche-2019/
URL:https://yixue.de/events/lotusfestwoche-2019/
END:VEVENT
END:VCALENDAR