BEGIN:VCALENDAR
VERSION:2.0
PRODID:-//eventon.com NONSGML v1.0//EN
CALSCALE:GREGORIAN
METHOD:PUBLISH
BEGIN:VEVENT
UID:69eb94bce69fe
DTSTAMP:20260424T160516Z
DTSTART:20200221
DTEND:20200222
LOCATION:
SUMMARY:100 Kinder Gong
DESCRIPTION:Leicht zu erlernen &#8211; intensiv in der Wirkung: Durch die 
 regelmäßige und präzise Übungspraxis der ganzheitlichen Bewegungsform 1
 00 Kinder Gong bringen wir die Lebensenergie Qi in uns in den Fluss\,  um 
 Schritt für Schritt durchlässig zu werden\,  den Körper und das Herz 
 wieder zu heilen und zu verjüngen. &nbsp; Flexibel wie ein Kinderkörper U
 nbedarft und[..]\nhttps://yixue.de/events/100-kinder-gong/
URL:https://yixue.de/events/100-kinder-gong/
END:VEVENT
END:VCALENDAR