BEGIN:VCALENDAR
VERSION:2.0
PRODID:-//eventon.com NONSGML v1.0//EN
CALSCALE:GREGORIAN
METHOD:PUBLISH
BEGIN:VEVENT
UID:69e74e2cc06bb
DTSTAMP:20260421T101508Z
DTSTART:20200409T230000Z
DTEND:20200412T225900Z
LOCATION:
SUMMARY:Sitzen auf dem Lotus
DESCRIPTION:&nbsp; „Wenn unser Herz ruhig ist wie ein Spiegel\,  sind wir
  in der Lage\,  die Wahrheit zu erkennen und unser volles Potential zu entw
 ickeln.” Wei Ling Yi &nbsp; Das Praktizieren der Mediationsform &#8222;Si
 tzen auf dem Lotus&#8220; gehört zu den wichtigsten Kultivierungsmethoden
  in der YiXue und dem Großen Lotus System. Wenn wir[..]\nhttps://yixue.de/
 events/sitzen-auf-dem-lotus-2/
URL:https://yixue.de/events/sitzen-auf-dem-lotus-2/
END:VEVENT
END:VCALENDAR