BEGIN:VCALENDAR
VERSION:2.0
PRODID:-//eventon.com NONSGML v1.0//EN
CALSCALE:GREGORIAN
METHOD:PUBLISH
BEGIN:VEVENT
UID:69e8fd8ba552b
DTSTAMP:20260422T165539Z
DTSTART:20200413T230000Z
DTEND:20200418T225900Z
LOCATION:
SUMMARY:Kinder - und Familienseminar
DESCRIPTION:Lernen fürs Leben &#8211; YiXue Zhi Neng mit Weisheits- &amp
 ; Gesundheitslehrer Wei Ling Yi Für Kinder ab 6 Jahren\,  ihre Eltern/ Ver
 wandte; Teilnahme auch möglich für Erwachsene ohne Kinder Ziel: Durch in
 tensive Übungseinheiten während des Seminars aktivieren sowohl Kinder als
  auch Erwachsene ihre Lebensenergie und bauen sie auf. Konzentrationsproble
 me\,  Schlafstörungen\,  Hyperaktivität\,  Infektanfälligkeit und[..]\nh
 ttps://yixue.de/events/kinder-und-familienseminar-2/
URL:https://yixue.de/events/kinder-und-familienseminar-2/
END:VEVENT
END:VCALENDAR