BEGIN:VCALENDAR
VERSION:2.0
PRODID:-//eventon.com NONSGML v1.0//EN
CALSCALE:GREGORIAN
METHOD:PUBLISH
BEGIN:VEVENT
UID:69e682ab86c48
DTSTAMP:20260420T194651Z
DTSTART:20200516T190000Z
DTEND:20200516T210000Z
LOCATION:
SUMMARY:Online-Event - Heilung für die Seele
DESCRIPTION:[vc_row][vc_column][vc_row_inner][vc_column_inner width=&#8220;
 1/1&#8243;][vc_custom_heading heading_semantic=&#8220;h3&#8243; text_size=&
 #8220;h3&#8243; text_weight=&#8220;600&#8243; text_height=&#8220;fontheight
 -197476&#8243; text_color=&#8220;accent&#8220; el_id=&#8220;kalender-headli
 ne&#8220;]Spirituelles Live Online-Event &#8211; Heilung der Seele[/vc_cus
 tom_heading][vc_custom_heading heading_semantic=&#8220;h4&#8243; text_size=
 &#8220;h4&#8243; text_weight=&#8220;600&#8243; text_height=&#8220;fontheigh
 t-197476&#8243; text_color=&#8220;accent&#8220; el_id=&#8220;kalender-headl
 ine&#8220;]mit Großmeister Wei Ling Yi Samstag\,  16. Mai 2020[/vc_custom_
 heading][/vc_column_inner][/vc_row_inner][vc_row_inner][vc_column_inner wid
 th=&#8220;1/1&#8243;][vc_column_text]Das spirituelle Event Pu Lian Fa ist 
 eines der großen Geschenke von Wei Ling Yi an seine LotusschülerInnen un
 d alle Interessierten. Er widmet es der Heilung unserer Seele.[..]\nhttp
 s://yixue.de/events/live-event-heilungfuerdieseele-deutsc/
URL:https://yixue.de/events/live-event-heilungfuerdieseele-deutsc/
END:VEVENT
END:VCALENDAR