BEGIN:VCALENDAR
VERSION:2.0
PRODID:-//eventon.com NONSGML v1.0//EN
CALSCALE:GREGORIAN
METHOD:PUBLISH
BEGIN:VEVENT
UID:69e9f9523e760
DTSTAMP:20260423T104954Z
DTSTART:20200627T170000Z
DTEND:20200627T190000Z
LOCATION:https://us02web.zoom.us/webinar/register/WN_zRbUN6KYTCOU3eKL8o3rBw
SUMMARY:Online-Vortrag ’Der Lotusweg’ – englische Übersetzung
DESCRIPTION:[vc_row][vc_column column_width_percent=&#8220;100&#8243; gutte
 r_size=&#8220;3&#8243; overlay_alpha=&#8220;50&#8243; shift_x=&#8220;0&#824
 3; shift_y=&#8220;0&#8243; shift_y_down=&#8220;0&#8243; z_index=&#8220;0&#8
 243; medium_width=&#8220;0&#8243; mobile_width=&#8220;0&#8243; width=&#8220
 ;1/1&#8243;][vc_row_inner][vc_column_inner width=&#8220;1/1&#8243;][vc_colu
 mn_text]Am 27. Juni 2020 um 18 Uhr nimmt uns Großmeister Wei Ling Yi erneu
 t mit auf den Lotusweg\,  auf den Weg zu unserer wahren\,  erleuchteten Nat
 ur. Herzlich willkommen zu einem Live-Vortrag mit Energieübertragung und e
 inem spannenden Thema. Dieses Mal[..]\nhttps://yixue.de/events/online-vortr
 ag-der-lotusweg/var/event_access
URL:https://yixue.de/events/online-vortrag-der-lotusweg/var/event_access
END:VEVENT
END:VCALENDAR