BEGIN:VCALENDAR
VERSION:2.0
PRODID:-//eventon.com NONSGML v1.0//EN
CALSCALE:GREGORIAN
METHOD:PUBLISH
BEGIN:VEVENT
UID:69e9a4d7883ee
DTSTAMP:20260423T044927Z
DTSTART:20200918
DTEND:20200919
LOCATION:https://v2202004119103114941.luckysrv.de:8443/yixueweb
SUMMARY:Yi Qi Bi Gu – Halbfasten
DESCRIPTION:WIRKUNG: Ausleitung von alten Energien und Informationen\,  gan
 zheitlicher Energieaufbau für Körper\,  Herz und Seele\,  Bewusstseinse
 ntwicklung für eine gesunde Ernährung  YiXue Basis-Seminar für alle I
 nteressierten ANMELDUNG ZUM ONLINE-SEMINAR Bitte meldet Euch mit folgendem 
 Link über das YIXUE Anmeldeportal an: https://v2202004119103114941.luckysr
 v.de:8443/yixueweb KLICKE HIER\,  UM DICH ANZUMELDEN Wir bitten um rechtzei
 tige Anmeldung. Anmeldeschluss ist der 16. September 2020![..]\nhttps://yi
 xue.de/events/online-seminar-yi-qi-bi-gu-halbfasten/
URL:https://yixue.de/events/online-seminar-yi-qi-bi-gu-halbfasten/
END:VEVENT
END:VCALENDAR